BEGIN:VCALENDAR
VERSION:2.0
PRODID:-//Colegio de Nutricionistas y Dietistas de PR - ECPv6.15.16//NONSGML v1.0//EN
CALSCALE:GREGORIAN
METHOD:PUBLISH
X-WR-CALNAME:Colegio de Nutricionistas y Dietistas de PR
X-ORIGINAL-URL:https://cndpr.org
X-WR-CALDESC:Events for Colegio de Nutricionistas y Dietistas de PR
REFRESH-INTERVAL;VALUE=DURATION:PT1H
X-Robots-Tag:noindex
X-PUBLISHED-TTL:PT1H
BEGIN:VTIMEZONE
TZID:America/Puerto_Rico
BEGIN:STANDARD
TZOFFSETFROM:-0400
TZOFFSETTO:-0400
TZNAME:AST
DTSTART:20240101T000000
END:STANDARD
END:VTIMEZONE
BEGIN:VEVENT
DTSTART;TZID=America/Puerto_Rico:20250614T080000
DTEND;TZID=America/Puerto_Rico:20250614T163000
DTSTAMP:20260419T170211
CREATED:20250516T013806Z
LAST-MODIFIED:20250516T013806Z
UID:14632-1749888000-1749918600@cndpr.org
SUMMARY:Taller Etiqueta Nutricional
DESCRIPTION:Taller Etiqueta Nutricional\nsábado 14 junio 2025 \n 
URL:https://cndpr.org/event/taller-etiqueta-nutricional/
LOCATION:CNDPR\, 25 Calle Mayaguez\, San Juan\, Puerto Rico\, 00917\, Puerto Rico
CATEGORIES:Eventos
ATTACH;FMTTYPE=image/jpeg:https://cndpr.org/wp-content/uploads/2025/05/Flyer-etiqueta-nutricional.jpg
ORGANIZER;CN="CNDPR":MAILTO:cndpr@cndpr.org
END:VEVENT
END:VCALENDAR