BEGIN:VCALENDAR
VERSION:2.0
PRODID:-//Colegio de Nutricionistas y Dietistas de PR - ECPv6.15.16//NONSGML v1.0//EN
CALSCALE:GREGORIAN
METHOD:PUBLISH
X-ORIGINAL-URL:https://cndpr.org
X-WR-CALDESC:Events for Colegio de Nutricionistas y Dietistas de PR
REFRESH-INTERVAL;VALUE=DURATION:PT1H
X-Robots-Tag:noindex
X-PUBLISHED-TTL:PT1H
BEGIN:VTIMEZONE
TZID:America/Puerto_Rico
BEGIN:STANDARD
TZOFFSETFROM:-0400
TZOFFSETTO:-0400
TZNAME:AST
DTSTART:20230101T000000
END:STANDARD
END:VTIMEZONE
BEGIN:VEVENT
DTSTART;TZID=America/Puerto_Rico:20240519T080000
DTEND;TZID=America/Puerto_Rico:20240519T170000
DTSTAMP:20260422T153655
CREATED:20240427T040356Z
LAST-MODIFIED:20240427T040731Z
UID:14440-1716105600-1716138000@cndpr.org
SUMMARY:Nutri-Fitness Day Ponce
DESCRIPTION:Nutri-Fitness Day Ponce\n19 de mayo de 2024 \nHCOA Fitness\, Ponce
URL:https://cndpr.org/event/nutri-fitness-day-ponce/
LOCATION:Puerto Rico
CATEGORIES:Eventos
ATTACH;FMTTYPE=image/jpeg:https://cndpr.org/wp-content/uploads/2018/02/Promo-Nutri-Fitness-Day-Ponce.jpg
ORGANIZER;CN="CNDPR":MAILTO:cndpr@cndpr.org
END:VEVENT
BEGIN:VEVENT
DTSTART;TZID=America/Puerto_Rico:20240524T080000
DTEND;TZID=America/Puerto_Rico:20240524T123000
DTSTAMP:20260422T153655
CREATED:20240427T035905Z
LAST-MODIFIED:20240427T035914Z
UID:14436-1716537600-1716553800@cndpr.org
SUMMARY:Integrando Innovación y Evidencia en la Nutrición Pediátrica y Adulta
DESCRIPTION:Integrando Innovación y Evidencia en la Nutrición Pediátrica y Adulta\nSalón de Conferencias GOYA \, Bayamón
URL:https://cndpr.org/event/integrando-innovacion-y-evidencia-en-la-nutricion-pediatrica-y-adulta/
LOCATION:GOYA\, Bayamón\, Bayamón\, Puerto Rico
CATEGORIES:Eventos
ATTACH;FMTTYPE=image/jpeg:https://cndpr.org/wp-content/uploads/2018/02/Promocion-IIE.jpg
ORGANIZER;CN="CNDPR":MAILTO:cndpr@cndpr.org
END:VEVENT
END:VCALENDAR