BEGIN:VCALENDAR
VERSION:2.0
PRODID:-//Colegio de Nutricionistas y Dietistas de PR - ECPv6.15.16//NONSGML v1.0//EN
CALSCALE:GREGORIAN
METHOD:PUBLISH
X-WR-CALNAME:Colegio de Nutricionistas y Dietistas de PR
X-ORIGINAL-URL:https://cndpr.org
X-WR-CALDESC:Events for Colegio de Nutricionistas y Dietistas de PR
REFRESH-INTERVAL;VALUE=DURATION:PT1H
X-Robots-Tag:noindex
X-PUBLISHED-TTL:PT1H
BEGIN:VTIMEZONE
TZID:America/Puerto_Rico
BEGIN:STANDARD
TZOFFSETFROM:-0400
TZOFFSETTO:-0400
TZNAME:AST
DTSTART:20230101T000000
END:STANDARD
END:VTIMEZONE
BEGIN:VEVENT
DTSTART;VALUE=DATE:20240315
DTEND;VALUE=DATE:20240316
DTSTAMP:20260422T185651
CREATED:20240127T034824Z
LAST-MODIFIED:20240127T041854Z
UID:14254-1710460800-1710547199@cndpr.org
SUMMARY:Actividad Cumbre del Mes de la Nutrición
DESCRIPTION:Actividad Cumbre del Mes de la Nutrición \nClub Roratio de Rio Piedras \nVer información >
URL:https://cndpr.org/event/actividad-cumbre-del-mes-de-la-nutricion/
LOCATION:Puerto Rico
CATEGORIES:Eventos
ATTACH;FMTTYPE=image/jpeg:https://cndpr.org/wp-content/uploads/2024/01/Promocion-Cumbre-01.jpg
END:VEVENT
END:VCALENDAR