BEGIN:VCALENDAR
VERSION:2.0
PRODID:-//Colegio de Nutricionistas y Dietistas de PR - ECPv6.15.16//NONSGML v1.0//EN
CALSCALE:GREGORIAN
METHOD:PUBLISH
X-ORIGINAL-URL:https://cndpr.org
X-WR-CALDESC:Events for Colegio de Nutricionistas y Dietistas de PR
REFRESH-INTERVAL;VALUE=DURATION:PT1H
X-Robots-Tag:noindex
X-PUBLISHED-TTL:PT1H
BEGIN:VTIMEZONE
TZID:America/Puerto_Rico
BEGIN:STANDARD
TZOFFSETFROM:-0400
TZOFFSETTO:-0400
TZNAME:AST
DTSTART:20230101T000000
END:STANDARD
END:VTIMEZONE
BEGIN:VEVENT
DTSTART;TZID=America/Puerto_Rico:20240217T080000
DTEND;TZID=America/Puerto_Rico:20240217T170000
DTSTAMP:20260422T204416
CREATED:20231226T022446Z
LAST-MODIFIED:20231226T022446Z
UID:14243-1708156800-1708189200@cndpr.org
SUMMARY:Dieta Vegana para Infantes y Niños
DESCRIPTION:Dieta Vegana para Infantes y Niños \n17 de febrero 2024\n9:00am – 11:00am
URL:https://cndpr.org/event/dieta-vegana-para-infantes-y-ninos/
LOCATION:Microsoft Teams
CATEGORIES:Eventos
ATTACH;FMTTYPE=image/jpeg:https://cndpr.org/wp-content/uploads/2023/12/Promocion-DV.jpg
ORGANIZER;CN="CNDPR":MAILTO:cndpr@cndpr.org
END:VEVENT
END:VCALENDAR